BEGIN:VCALENDAR
VERSION:2.0
PRODID:-//North Carolina and Bermuda AFG - ECPv6.15.20//NONSGML v1.0//EN
CALSCALE:GREGORIAN
METHOD:PUBLISH
X-ORIGINAL-URL:https://ncbermudaafg.org
X-WR-CALDESC:Events for North Carolina and Bermuda AFG
REFRESH-INTERVAL;VALUE=DURATION:PT1H
X-Robots-Tag:noindex
X-PUBLISHED-TTL:PT1H
BEGIN:VTIMEZONE
TZID:America/New_York
BEGIN:DAYLIGHT
TZOFFSETFROM:-0500
TZOFFSETTO:-0400
TZNAME:EDT
DTSTART:20220313T070000
END:DAYLIGHT
BEGIN:STANDARD
TZOFFSETFROM:-0400
TZOFFSETTO:-0500
TZNAME:EST
DTSTART:20221106T060000
END:STANDARD
BEGIN:DAYLIGHT
TZOFFSETFROM:-0500
TZOFFSETTO:-0400
TZNAME:EDT
DTSTART:20230312T070000
END:DAYLIGHT
BEGIN:STANDARD
TZOFFSETFROM:-0400
TZOFFSETTO:-0500
TZNAME:EST
DTSTART:20231105T060000
END:STANDARD
BEGIN:DAYLIGHT
TZOFFSETFROM:-0500
TZOFFSETTO:-0400
TZNAME:EDT
DTSTART:20240310T070000
END:DAYLIGHT
BEGIN:STANDARD
TZOFFSETFROM:-0400
TZOFFSETTO:-0500
TZNAME:EST
DTSTART:20241103T060000
END:STANDARD
END:VTIMEZONE
BEGIN:VEVENT
DTSTART;TZID=America/New_York:20231224T140000
DTEND;TZID=America/New_York:20231224T150000
DTSTAMP:20260422T034031
CREATED:20231019T014009Z
LAST-MODIFIED:20231019T014040Z
UID:4162-1703426400-1703430000@ncbermudaafg.org
SUMMARY:2023 HOLIDAY GRATITUDE MEETING - District 8
DESCRIPTION:2023 HOLIDAY GRATITUDE MEETINGS – font chg(1)
URL:https://ncbermudaafg.org/event/2023-holiday-gratitude-meeting/
LOCATION:Online
END:VEVENT
BEGIN:VEVENT
DTSTART;TZID=America/New_York:20231224T180000
DTEND;TZID=America/New_York:20231224T220000
DTSTAMP:20260422T034031
CREATED:20231219T012028Z
LAST-MODIFIED:20231219T012028Z
UID:4341-1703440800-1703455200@ncbermudaafg.org
SUMMARY:District 5 Alanon-Athon 2023 Zoom Meetings
DESCRIPTION:2023 Zoom Meetings Alanonathon \n  \nDay & Time:\n Christmas Eve & New Year’s Eve at 6:00 PM\, 8:00 PM &\n10:00 PM\n Christmas Day & New Year’s Day at 9:00 AM\, 12:00 N &\n3:00 PM
URL:https://ncbermudaafg.org/event/district-5-alanon-athon-2023-zoom-meetings/
LOCATION:Online
END:VEVENT
END:VCALENDAR