BEGIN:VCALENDAR
VERSION:2.0
PRODID:-//North Carolina and Bermuda AFG - ECPv6.15.20//NONSGML v1.0//EN
CALSCALE:GREGORIAN
METHOD:PUBLISH
X-WR-CALNAME:North Carolina and Bermuda AFG
X-ORIGINAL-URL:https://ncbermudaafg.org
X-WR-CALDESC:Events for North Carolina and Bermuda AFG
REFRESH-INTERVAL;VALUE=DURATION:PT1H
X-Robots-Tag:noindex
X-PUBLISHED-TTL:PT1H
BEGIN:VTIMEZONE
TZID:America/New_York
BEGIN:DAYLIGHT
TZOFFSETFROM:-0500
TZOFFSETTO:-0400
TZNAME:EDT
DTSTART:20230312T070000
END:DAYLIGHT
BEGIN:STANDARD
TZOFFSETFROM:-0400
TZOFFSETTO:-0500
TZNAME:EST
DTSTART:20231105T060000
END:STANDARD
BEGIN:DAYLIGHT
TZOFFSETFROM:-0500
TZOFFSETTO:-0400
TZNAME:EDT
DTSTART:20240310T070000
END:DAYLIGHT
BEGIN:STANDARD
TZOFFSETFROM:-0400
TZOFFSETTO:-0500
TZNAME:EST
DTSTART:20241103T060000
END:STANDARD
BEGIN:DAYLIGHT
TZOFFSETFROM:-0500
TZOFFSETTO:-0400
TZNAME:EDT
DTSTART:20250309T070000
END:DAYLIGHT
BEGIN:STANDARD
TZOFFSETFROM:-0400
TZOFFSETTO:-0500
TZNAME:EST
DTSTART:20251102T060000
END:STANDARD
END:VTIMEZONE
BEGIN:VEVENT
DTSTART;VALUE=DATE:20240322
DTEND;VALUE=DATE:20240325
DTSTAMP:20260421T210828
CREATED:20240118T214029Z
LAST-MODIFIED:20240129T140112Z
UID:4375-1711065600-1711324799@ncbermudaafg.org
SUMMARY:EAR "Eastern Alateen Roundup" - March 22-24
DESCRIPTION:EAR 2024 Flyer pdf\n\n\nThis weekend of Alateen/AMIAS Recovery is our Annual Spring Conference for all AMIAS & Alateens.\n\n\nThe Registration will be sent out very soon!  AND always remember and share that EAR has Love Scholarships available for those in need of Registration cost help.\n\nNo Alateen is ever left behind! Transportation is available\, just ask!\n\nFeel free to give my contact to any Alateen or parent that may have questions~ alateen@ncbermudaafg.org.\n\nThank you for all your Public Outreach and sharing of Alateen with Service! It is GREATLY appreciated!
URL:https://ncbermudaafg.org/event/ear-eastern-alateen-roundup-march-22-24/
END:VEVENT
BEGIN:VEVENT
DTSTART;TZID=America/New_York:20240322T080000
DTEND;TZID=America/New_York:20240324T170000
DTSTAMP:20260421T210828
CREATED:20240312T204533Z
LAST-MODIFIED:20240312T204646Z
UID:4466-1711094400-1711299600@ncbermudaafg.org
SUMMARY:SC AA Convention with Al-Anon participation in Greenville\, SC
DESCRIPTION:AA 2024 Convention registration
URL:https://ncbermudaafg.org/event/sc-aa-convention-with-al-anon-participation-in-greenville-sc/
END:VEVENT
END:VCALENDAR