BEGIN:VCALENDAR
VERSION:2.0
PRODID:-//North Carolina and Bermuda AFG - ECPv6.15.20//NONSGML v1.0//EN
CALSCALE:GREGORIAN
METHOD:PUBLISH
X-ORIGINAL-URL:https://ncbermudaafg.org
X-WR-CALDESC:Events for North Carolina and Bermuda AFG
REFRESH-INTERVAL;VALUE=DURATION:PT1H
X-Robots-Tag:noindex
X-PUBLISHED-TTL:PT1H
BEGIN:VTIMEZONE
TZID:America/New_York
BEGIN:DAYLIGHT
TZOFFSETFROM:-0500
TZOFFSETTO:-0400
TZNAME:EDT
DTSTART:20230312T070000
END:DAYLIGHT
BEGIN:STANDARD
TZOFFSETFROM:-0400
TZOFFSETTO:-0500
TZNAME:EST
DTSTART:20231105T060000
END:STANDARD
BEGIN:DAYLIGHT
TZOFFSETFROM:-0500
TZOFFSETTO:-0400
TZNAME:EDT
DTSTART:20240310T070000
END:DAYLIGHT
BEGIN:STANDARD
TZOFFSETFROM:-0400
TZOFFSETTO:-0500
TZNAME:EST
DTSTART:20241103T060000
END:STANDARD
BEGIN:DAYLIGHT
TZOFFSETFROM:-0500
TZOFFSETTO:-0400
TZNAME:EDT
DTSTART:20250309T070000
END:DAYLIGHT
BEGIN:STANDARD
TZOFFSETFROM:-0400
TZOFFSETTO:-0500
TZNAME:EST
DTSTART:20251102T060000
END:STANDARD
END:VTIMEZONE
BEGIN:VEVENT
DTSTART;VALUE=DATE:20240518
DTEND;VALUE=DATE:20240519
DTSTAMP:20260421T171454
CREATED:20240115T185231Z
LAST-MODIFIED:20240115T190840Z
UID:4351-1715990400-1716076799@ncbermudaafg.org
SUMMARY:Area Spring Assembly - May 18\, 2024
DESCRIPTION:District 6 is hosting the Spring Assembly at St. Mark Church\, Burlington.
URL:https://ncbermudaafg.org/event/area-assembly-may-18-2024/
CATEGORIES:Area,Assembly,District
END:VEVENT
END:VCALENDAR