BEGIN:VCALENDAR
VERSION:2.0
PRODID:-//North Carolina and Bermuda AFG - ECPv6.15.20//NONSGML v1.0//EN
CALSCALE:GREGORIAN
METHOD:PUBLISH
X-ORIGINAL-URL:https://ncbermudaafg.org
X-WR-CALDESC:Events for North Carolina and Bermuda AFG
REFRESH-INTERVAL;VALUE=DURATION:PT1H
X-Robots-Tag:noindex
X-PUBLISHED-TTL:PT1H
BEGIN:VTIMEZONE
TZID:America/New_York
BEGIN:DAYLIGHT
TZOFFSETFROM:-0500
TZOFFSETTO:-0400
TZNAME:EDT
DTSTART:20230312T070000
END:DAYLIGHT
BEGIN:STANDARD
TZOFFSETFROM:-0400
TZOFFSETTO:-0500
TZNAME:EST
DTSTART:20231105T060000
END:STANDARD
BEGIN:DAYLIGHT
TZOFFSETFROM:-0500
TZOFFSETTO:-0400
TZNAME:EDT
DTSTART:20240310T070000
END:DAYLIGHT
BEGIN:STANDARD
TZOFFSETFROM:-0400
TZOFFSETTO:-0500
TZNAME:EST
DTSTART:20241103T060000
END:STANDARD
BEGIN:DAYLIGHT
TZOFFSETFROM:-0500
TZOFFSETTO:-0400
TZNAME:EDT
DTSTART:20250309T070000
END:DAYLIGHT
BEGIN:STANDARD
TZOFFSETFROM:-0400
TZOFFSETTO:-0500
TZNAME:EST
DTSTART:20251102T060000
END:STANDARD
BEGIN:DAYLIGHT
TZOFFSETFROM:-0500
TZOFFSETTO:-0400
TZNAME:EDT
DTSTART:20260308T070000
END:DAYLIGHT
BEGIN:STANDARD
TZOFFSETFROM:-0400
TZOFFSETTO:-0500
TZNAME:EST
DTSTART:20261101T060000
END:STANDARD
END:VTIMEZONE
BEGIN:VEVENT
DTSTART;TZID=America/New_York:20251108T100000
DTEND;TZID=America/New_York:20251108T160000
DTSTAMP:20260419T172137
CREATED:20250906T143955Z
LAST-MODIFIED:20251012T202452Z
UID:5122-1762596000-1762617600@ncbermudaafg.org
SUMMARY:2025 Fall Assembly - November 8th\, 2025
DESCRIPTION:2025 Fall Assembly Flyer
URL:https://ncbermudaafg.org/event/2025-fall-assembly-november-8th-2025/
CATEGORIES:Area,Assembly,AWSC,District
END:VEVENT
BEGIN:VEVENT
DTSTART;TZID=America/New_York:20250906T090000
DTEND;TZID=America/New_York:20250906T160000
DTSTAMP:20260419T172137
CREATED:20250111T175415Z
LAST-MODIFIED:20250906T151855Z
UID:4855-1757149200-1757174400@ncbermudaafg.org
SUMMARY:AWSC MEETING - BURLINGTON
DESCRIPTION:
URL:https://ncbermudaafg.org/event/awsc-meeting-burlington-3/
LOCATION:Best Western – Burlington\, 770 Huffman Mill Rd.\, Burlington\, NC\, 27215\, United States
CATEGORIES:Area,AWSC,District
END:VEVENT
BEGIN:VEVENT
DTSTART;TZID=America/New_York:20250712T080000
DTEND;TZID=America/New_York:20250712T170000
DTSTAMP:20260419T172137
CREATED:20250111T175208Z
LAST-MODIFIED:20250111T175208Z
UID:4853-1752307200-1752339600@ncbermudaafg.org
SUMMARY:AWSC MEETING - BURLINGTON
DESCRIPTION:
URL:https://ncbermudaafg.org/event/awsc-meeting-burlington-2/
LOCATION:Best Western – Burlington\, 770 Huffman Mill Rd.\, Burlington\, NC\, 27215\, United States
CATEGORIES:Area,AWSC,District
END:VEVENT
BEGIN:VEVENT
DTSTART;TZID=America/New_York:20250308T080000
DTEND;TZID=America/New_York:20250308T170000
DTSTAMP:20260419T172137
CREATED:20250111T174537Z
LAST-MODIFIED:20250521T230453Z
UID:4848-1741420800-1741453200@ncbermudaafg.org
SUMMARY:AWSC Meeting - Burlington
DESCRIPTION:
URL:https://ncbermudaafg.org/event/awsc-meeting-burlington/
LOCATION:Best Western – Burlington\, 770 Huffman Mill Rd.\, Burlington\, NC\, 27215\, United States
CATEGORIES:Area,AWSC,District
END:VEVENT
BEGIN:VEVENT
DTSTART;TZID=America/New_York:20250118T090000
DTEND;TZID=America/New_York:20250118T160000
DTSTAMP:20260419T172137
CREATED:20231202T200910Z
LAST-MODIFIED:20240924T190925Z
UID:4312-1737190800-1737216000@ncbermudaafg.org
SUMMARY:AWSC Meeting
DESCRIPTION:New Panel Orientation\n\n\n\nMeeting on Friday night will be from 7 – 8:30 pm.  Saturday 9am – 4 pm.\n\nShamrock Evangelical Methodist Church in Burlington .\n3519 Maple Ave.\nBurlington NC 27215\n\n\n\n\n\n\n\n\n\n\nChairperson\, NC/Bermuda AFG Inc.\n\nE-mail:  chairperson@ncbermudaafg.org
URL:https://ncbermudaafg.org/event/awsc-meeting-6/
LOCATION:Best Western – Burlington\, 770 Huffman Mill Rd.\, Burlington\, NC\, 27215\, United States
CATEGORIES:Area,AWSC
END:VEVENT
BEGIN:VEVENT
DTSTART;TZID=America/New_York:20240906T180000
DTEND;TZID=America/New_York:20240907T200000
DTSTAMP:20260419T172137
CREATED:20231202T200731Z
LAST-MODIFIED:20231212T002739Z
UID:4310-1725645600-1725739200@ncbermudaafg.org
SUMMARY:AWSC Meeting
DESCRIPTION:Meeting on Friday night will be from 6 – 8 pm.  Saturday 8am – 5 pm.\n\nShamrock Evangelical Methodist Church in Burlington .\n3519 Maple Ave.\nBurlington NC 27215\n\n\n\n\n\n\n\n\nChairperson\, NC/Bermuda AFG Inc.\n\nE-mail:  chairperson@ncbermudaafg.org
URL:https://ncbermudaafg.org/event/awsc-meeting-5/
LOCATION:Best Western – Burlington\, 770 Huffman Mill Rd.\, Burlington\, NC\, 27215\, United States
CATEGORIES:Area,AWSC
END:VEVENT
BEGIN:VEVENT
DTSTART;TZID=America/New_York:20240712T180000
DTEND;TZID=America/New_York:20240713T200000
DTSTAMP:20260419T172137
CREATED:20231202T200557Z
LAST-MODIFIED:20231212T002810Z
UID:4308-1720807200-1720900800@ncbermudaafg.org
SUMMARY:AWSC Meeting
DESCRIPTION:Meeting on Friday night will be from 6 – 8 pm.  Saturday 8am – 5 pm.\n\nShamrock Evangelical Methodist Church in Burlington .\n3519 Maple Ave.\nBurlington NC 27215\n\n\n\n\n\n\n\n\n\n\nChairperson\, NC/Bermuda AFG Inc.\n\nE-mail:  chairperson@ncbermudaafg.org
URL:https://ncbermudaafg.org/event/awsc-meeting-4/
LOCATION:Best Western – Burlington\, 770 Huffman Mill Rd.\, Burlington\, NC\, 27215\, United States
CATEGORIES:Area,AWSC
END:VEVENT
BEGIN:VEVENT
DTSTART;TZID=America/New_York:20240308T180000
DTEND;TZID=America/New_York:20240309T200000
DTSTAMP:20260419T172137
CREATED:20231202T200416Z
LAST-MODIFIED:20231212T002948Z
UID:4306-1709920800-1710014400@ncbermudaafg.org
SUMMARY:AWSC Meeting
DESCRIPTION:Meeting on Friday night will be from 6 – 8 pm.  Saturday 8am – 5 pm.\n\nShamrock Evangelical Methodist Church in Burlington .\n3519 Maple Ave.\nBurlington NC 27215\n\n\n\n\n\n\n\n\n\n\n\n\nChairperson\, NC/Bermuda AFG Inc.\n\nE-mail:  chairperson@ncbermudaafg.org
URL:https://ncbermudaafg.org/event/awsc-meeting-3/
LOCATION:Best Western – Burlington\, 770 Huffman Mill Rd.\, Burlington\, NC\, 27215\, United States
CATEGORIES:Area,AWSC
END:VEVENT
END:VCALENDAR