BEGIN:VCALENDAR
VERSION:2.0
PRODID:-//North Carolina and Bermuda AFG - ECPv6.15.20//NONSGML v1.0//EN
CALSCALE:GREGORIAN
METHOD:PUBLISH
X-ORIGINAL-URL:https://ncbermudaafg.org
X-WR-CALDESC:Events for North Carolina and Bermuda AFG
REFRESH-INTERVAL;VALUE=DURATION:PT1H
X-Robots-Tag:noindex
X-PUBLISHED-TTL:PT1H
BEGIN:VTIMEZONE
TZID:America/New_York
BEGIN:DAYLIGHT
TZOFFSETFROM:-0500
TZOFFSETTO:-0400
TZNAME:EDT
DTSTART:20230312T070000
END:DAYLIGHT
BEGIN:STANDARD
TZOFFSETFROM:-0400
TZOFFSETTO:-0500
TZNAME:EST
DTSTART:20231105T060000
END:STANDARD
BEGIN:DAYLIGHT
TZOFFSETFROM:-0500
TZOFFSETTO:-0400
TZNAME:EDT
DTSTART:20240310T070000
END:DAYLIGHT
BEGIN:STANDARD
TZOFFSETFROM:-0400
TZOFFSETTO:-0500
TZNAME:EST
DTSTART:20241103T060000
END:STANDARD
BEGIN:DAYLIGHT
TZOFFSETFROM:-0500
TZOFFSETTO:-0400
TZNAME:EDT
DTSTART:20250309T070000
END:DAYLIGHT
BEGIN:STANDARD
TZOFFSETFROM:-0400
TZOFFSETTO:-0500
TZNAME:EST
DTSTART:20251102T060000
END:STANDARD
END:VTIMEZONE
BEGIN:VEVENT
DTSTART;TZID=America/New_York:20241005T123000
DTEND;TZID=America/New_York:20241005T163000
DTSTAMP:20260419T190153
CREATED:20240906T171556Z
LAST-MODIFIED:20240906T171556Z
UID:4636-1728131400-1728145800@ncbermudaafg.org
SUMMARY:Greenville NC Groups 2024 Gratitude Dinner
DESCRIPTION:Gratitude Dinner 2024 Flyer
URL:https://ncbermudaafg.org/event/greenville-nc-groups-2024-gratitude-dinner/
LOCATION:Covenant Church\, 1396 Firetower Rd\, Rm B102\, Winterville\, NC\, 28590\, United States
CATEGORIES:Area,District,Neighboring Areas
END:VEVENT
BEGIN:VEVENT
DTSTART;TZID=America/New_York:20240406T123000
DTEND;TZID=America/New_York:20240406T153000
DTSTAMP:20260419T190153
CREATED:20240312T193837Z
LAST-MODIFIED:20240312T193935Z
UID:4462-1712406600-1712417400@ncbermudaafg.org
SUMMARY:District 6 Workshop - April 6th-  Durham
DESCRIPTION:
URL:https://ncbermudaafg.org/event/district-6-workshop-durham/
LOCATION:Duke Memorial Methodist Church\, 504 W. Chapel Hill Street\, Durham\, 27701\, United States
CATEGORIES:Area,District,Neighboring Areas
END:VEVENT
BEGIN:VEVENT
DTSTART;VALUE=DATE:20240309
DTEND;VALUE=DATE:20240310
DTSTAMP:20260419T190153
CREATED:20240218T141121Z
LAST-MODIFIED:20240218T141121Z
UID:4436-1709942400-1710028799@ncbermudaafg.org
SUMMARY:46th Annual Winter Roundup - Happy\, Joyous\, and Free
DESCRIPTION:2024 Winter Roundup Flyer Updated \n  \nHappy\, Joyous\, and Free\nSaturday\, March 9\, 2024 8:00 AM – 4:00 PM\nSt Matthew Catholic Church\n815 Ballantyne Commons Parkway\, Charlotte\, NC \nWHAT’S A ROUNDUP: The Winter Roundup is a day to celebrate the gifts of recovery with Al-Anon members from around the area. The day includes workshops on selected recovery-related topics\, speakers\, good fun and fellowship. \nCOST: Registration is $10.00 at the door (Alateens attend for free). Exact change in bills only\, please. Checks\, Venmo\, and Zelle also accepted.\nFOOD: Coffee\, tea\, and water are provided by District 5. If you’d like\, please bring some snacks to share with other participants. For lunch\, bring a bag lunch for yourself or sample one of the many restaurants nearby.\nBASKETS RAFFLE/AUCTION: Some District 5 Groups will donate baskets of items to be raffled or auctioned off. Baskets may contain artwork\, baked goods\, CAL\, gift cards\, etc. Please keep items in the spirit of the Al-Alanon program.\nAMIAS TRAINING: Pamela Y.\, Area 42 Alateen Coordinator\, will lead a training session for AMIASes. Please plan to attend this meeting if you want to help our teen members as an AMIAS. Zoom Info: Meeting ID: 817 4660 6527\, Passcode: 228964\, https://us06web.zoom.us/j/81746606527?pwd=0b673upDaTMAKk9ttStPenYvPO8D1X.1\nGUEST SPEAKER: District 5’s own Aaron Jacks has kindly agreed to be our guest speaker.\nROUNDUP ON ZOOM: A separate Winter Roundup is scheduled on Zoom on the same day. See the Winter Roundup on Zoom’s flyer on www.charlottealanon.org for details including Zoom information. QUESTIONS: Please contact Kitt M. at authentikitt@gmail.com.\nPRELIMINARY SESSION
URL:https://ncbermudaafg.org/event/46th-annual-winter-roundup-happy-joyous-and-free/
LOCATION:St.Matthew Catholic Church\, 815 Ballantyne Commons PKWY\, Charlotte\, NC\, United States
CATEGORIES:Area,District,Neighboring Areas
END:VEVENT
END:VCALENDAR