BEGIN:VCALENDAR
VERSION:2.0
PRODID:-//North Carolina and Bermuda AFG - ECPv6.15.20//NONSGML v1.0//EN
CALSCALE:GREGORIAN
METHOD:PUBLISH
X-WR-CALNAME:North Carolina and Bermuda AFG
X-ORIGINAL-URL:https://ncbermudaafg.org
X-WR-CALDESC:Events for North Carolina and Bermuda AFG
REFRESH-INTERVAL;VALUE=DURATION:PT1H
X-Robots-Tag:noindex
X-PUBLISHED-TTL:PT1H
BEGIN:VTIMEZONE
TZID:America/New_York
BEGIN:DAYLIGHT
TZOFFSETFROM:-0500
TZOFFSETTO:-0400
TZNAME:EDT
DTSTART:20230312T070000
END:DAYLIGHT
BEGIN:STANDARD
TZOFFSETFROM:-0400
TZOFFSETTO:-0500
TZNAME:EST
DTSTART:20231105T060000
END:STANDARD
BEGIN:DAYLIGHT
TZOFFSETFROM:-0500
TZOFFSETTO:-0400
TZNAME:EDT
DTSTART:20240310T070000
END:DAYLIGHT
BEGIN:STANDARD
TZOFFSETFROM:-0400
TZOFFSETTO:-0500
TZNAME:EST
DTSTART:20241103T060000
END:STANDARD
BEGIN:DAYLIGHT
TZOFFSETFROM:-0500
TZOFFSETTO:-0400
TZNAME:EDT
DTSTART:20250309T070000
END:DAYLIGHT
BEGIN:STANDARD
TZOFFSETFROM:-0400
TZOFFSETTO:-0500
TZNAME:EST
DTSTART:20251102T060000
END:STANDARD
BEGIN:DAYLIGHT
TZOFFSETFROM:-0500
TZOFFSETTO:-0400
TZNAME:EDT
DTSTART:20260308T070000
END:DAYLIGHT
BEGIN:STANDARD
TZOFFSETFROM:-0400
TZOFFSETTO:-0500
TZNAME:EST
DTSTART:20261101T060000
END:STANDARD
BEGIN:DAYLIGHT
TZOFFSETFROM:-0500
TZOFFSETTO:-0400
TZNAME:EDT
DTSTART:20270314T070000
END:DAYLIGHT
BEGIN:STANDARD
TZOFFSETFROM:-0400
TZOFFSETTO:-0500
TZNAME:EST
DTSTART:20271107T060000
END:STANDARD
END:VTIMEZONE
BEGIN:VEVENT
DTSTART;TZID=America/New_York:20260424T080000
DTEND;TZID=America/New_York:20260426T170000
DTSTAMP:20260419T163550
CREATED:20260314T193111Z
LAST-MODIFIED:20260314T193111Z
UID:5380-1777017600-1777222800@ncbermudaafg.org
SUMMARY:Eastern Alateen Roundup (EAR) will be held on April 24-26 in the Greensboro area
DESCRIPTION:
URL:https://ncbermudaafg.org/event/eastern-alateen-roundup-ear-will-be-held-on-april-24-26-in-the-greensboro-area/
END:VEVENT
BEGIN:VEVENT
DTSTART;TZID=America/New_York:20260314T090000
DTEND;TZID=America/New_York:20260314T160000
DTSTAMP:20260419T163550
CREATED:20250521T230200Z
LAST-MODIFIED:20250521T230200Z
UID:5093-1773478800-1773504000@ncbermudaafg.org
SUMMARY:AWSC MEETING - BURLINGTON
DESCRIPTION:
URL:https://ncbermudaafg.org/event/awsc-meeting-burlington-6/
LOCATION:Best Western – Burlington\, 770 Huffman Mill Rd.\, Burlington\, NC\, 27215\, United States
END:VEVENT
BEGIN:VEVENT
DTSTART;TZID=America/New_York:20260227T080000
DTEND;TZID=America/New_York:20260301T170000
DTSTAMP:20260419T163550
CREATED:20250906T180424Z
LAST-MODIFIED:20250906T180424Z
UID:5136-1772179200-1772384400@ncbermudaafg.org
SUMMARY:2026 NC/BERMUDA Alanon Convention
DESCRIPTION:2026 NC Bermuda AFG Convention Save the Date
URL:https://ncbermudaafg.org/event/2026-nc-bermuda-alanon-convention/
LOCATION:Village Inn\, Clemmons\, NC\, United States
END:VEVENT
BEGIN:VEVENT
DTSTART;TZID=America/New_York:20260223T080000
DTEND;TZID=America/New_York:20260226T170000
DTSTAMP:20260419T163550
CREATED:20260211T020735Z
LAST-MODIFIED:20260211T021333Z
UID:5361-1771833600-1772125200@ncbermudaafg.org
SUMMARY:Public Outreach Opportunity - NC Foundation for Alcohol and Drug Studies Winter School
DESCRIPTION:2026 NCFADS Winter School Info\n\nPublic Outreach Opportunity.\n A statewide event for all AFG members to volunteer.\n\n\n\n\nNCFADS Feb. 23 – 26\, 2026\nNC Foundation for Alcohol and Drug Studies Winter School –\nEmbassy Suites Greensboro Airport 204 Centreport Dr. Greensboro\, NC 27409\nMore info: triadaisd4@gmail.com or call (no text) 336-723-1452\n\nWe need Al-Anon members to be available to hand out Al-Anon\nConference Approved Literature and answer any questions. Some\nmembers will gather offsite on Wednesday night for dinner before we\nprovide a one hour educational presentation for conference attendees. This\nwill include a presentation\, members personal sharing and time for\nquestions and answers. See the SignUp Genius link for dates/times.
URL:https://ncbermudaafg.org/event/public-outreach-opportunity-nc-foundation-for-alcohol-and-drug-studies-winter-school/
END:VEVENT
BEGIN:VEVENT
DTSTART;VALUE=DATE:20260221
DTEND;VALUE=DATE:20260222
DTSTAMP:20260419T163550
CREATED:20251120T214942Z
LAST-MODIFIED:20251120T215042Z
UID:5287-1771632000-1771718399@ncbermudaafg.org
SUMMARY:District 5 Al-Anon 2026 Winter Roundup
DESCRIPTION:SAVE THE DATE-2026 WINTER ROUNDUP
URL:https://ncbermudaafg.org/event/district-5-al-anon-2026-winter-roundup/
LOCATION:St.Matthew Catholic Church\, 815 Ballantyne Commons PKWY\, Charlotte\, NC\, United States
END:VEVENT
BEGIN:VEVENT
DTSTART;TZID=America/New_York:20260117T090000
DTEND;TZID=America/New_York:20260117T160000
DTSTAMP:20260419T163550
CREATED:20250521T224520Z
LAST-MODIFIED:20250521T224520Z
UID:5091-1768640400-1768665600@ncbermudaafg.org
SUMMARY:AWSC MEETING - BURLINGTON
DESCRIPTION:
URL:https://ncbermudaafg.org/event/awsc-meeting-burlington-5/
END:VEVENT
BEGIN:VEVENT
DTSTART;VALUE=DATE:20251114
DTEND;VALUE=DATE:20251117
DTSTAMP:20260419T163550
CREATED:20251013T194358Z
LAST-MODIFIED:20251013T194358Z
UID:5185-1763078400-1763337599@ncbermudaafg.org
SUMMARY:SAC 2025 November 14 - 16
DESCRIPTION:
URL:https://ncbermudaafg.org/event/sac-2025-november-14-16/
CATEGORIES:Area,District
END:VEVENT
BEGIN:VEVENT
DTSTART;TZID=America/New_York:20251108T100000
DTEND;TZID=America/New_York:20251108T160000
DTSTAMP:20260419T163550
CREATED:20250906T143955Z
LAST-MODIFIED:20251012T202452Z
UID:5122-1762596000-1762617600@ncbermudaafg.org
SUMMARY:2025 Fall Assembly - November 8th\, 2025
DESCRIPTION:2025 Fall Assembly Flyer
URL:https://ncbermudaafg.org/event/2025-fall-assembly-november-8th-2025/
CATEGORIES:Area,Assembly,AWSC,District
END:VEVENT
BEGIN:VEVENT
DTSTART;TZID=America/New_York:20251107T183000
DTEND;TZID=America/New_York:20251107T210000
DTSTAMP:20260419T163550
CREATED:20250906T144608Z
LAST-MODIFIED:20250906T144608Z
UID:5124-1762540200-1762549200@ncbermudaafg.org
SUMMARY:Open House and Fellowship Pryor to Assembly
DESCRIPTION:Open House and Fellowship\nFriday November 7\, at the same location\n6:30pm: Meet and Greet\n7pm: Al-Anon Meeting\n8pm: Ice Cream Bar Social
URL:https://ncbermudaafg.org/event/open-house-and-fellowship-pryor-to-assembly/
LOCATION:First Baptist Church\, 200 E. New York Ave.\, Southern Pines\, NC\, 28387\, United States
END:VEVENT
BEGIN:VEVENT
DTSTART;TZID=America/New_York:20251101T133000
DTEND;TZID=America/New_York:20251101T163000
DTSTAMP:20260419T163550
CREATED:20251005T184551Z
LAST-MODIFIED:20251005T224655Z
UID:5144-1762003800-1762014600@ncbermudaafg.org
SUMMARY:District 8 Gratitude Dinner November 1\, 2025
DESCRIPTION:Gratitude Dinner  \nSaturday\, November 1st\, 2025 \n1:30 pm to 4:30 pm \nCovenant Church \n1396 Firetower Rd\, Rm B102 \nWinterville\, NC  28590 \nSpeakers  \nAA\, Al-Anon\, Alateen \nshare their experience\, strength & \nhope. \nHomemade Chili & Beverages \nProvided. \nRaffles\, Auction\, Fellowship \n1:30 pm-2:00 pm Meet & Greet \n2:30 pm Food & Speakers Begin \nPlease Bring a Side or Dessert to Share! \n  \nGratitude Dinner 2025 Flyer
URL:https://ncbermudaafg.org/event/district-8-gratitude-dinner-2025/
LOCATION:Covenant Church\, 1396 Firetower Rd\, Rm B102\, Winterville\, NC\, 28590\, United States
END:VEVENT
BEGIN:VEVENT
DTSTART;TZID=America/New_York:20251011T100000
DTEND;TZID=America/New_York:20251011T140000
DTSTAMP:20260419T163550
CREATED:20250521T014641Z
LAST-MODIFIED:20250521T014835Z
UID:5078-1760176800-1760191200@ncbermudaafg.org
SUMMARY:K.I.S.S. Workshop (Keep It Serene and Simple)
DESCRIPTION:K.I.S.S. Workshop\nKeep It Serene and Simple\nOctober 11\, 2025 \n10am – 2 pm \nSave the Date \nBasket donations are needed for a fundraising raffle. \nhosted by Circle of Hope AFG\nEmmanuel Baptist Church\n1405 Emmanuel Church Road\nConover NC 28613 \n$5 suggested donation at the door \n  \n2025 kiss workshop std
URL:https://ncbermudaafg.org/event/k-i-s-s-workshop-keep-it-serene-and-simple/
CATEGORIES:Area,District
END:VEVENT
BEGIN:VEVENT
DTSTART;TZID=America/New_York:20250920T090000
DTEND;TZID=America/New_York:20250920T150000
DTSTAMP:20260419T163550
CREATED:20250906T172128Z
LAST-MODIFIED:20250906T173518Z
UID:5127-1758358800-1758380400@ncbermudaafg.org
SUMMARY:Odd Socks United - A Day of Group Unity - Saturday\, September 20
DESCRIPTION:Odd Socks United A Day of Group Unity update (1)
URL:https://ncbermudaafg.org/event/odd-socks-united-a-day-of-group-unity-saturday-september-20/
LOCATION:Knollwood Baptist Church\, Winston-Salem\, NC\, United States
END:VEVENT
BEGIN:VEVENT
DTSTART;TZID=America/New_York:20250906T090000
DTEND;TZID=America/New_York:20250906T160000
DTSTAMP:20260419T163550
CREATED:20250111T175415Z
LAST-MODIFIED:20250906T151855Z
UID:4855-1757149200-1757174400@ncbermudaafg.org
SUMMARY:AWSC MEETING - BURLINGTON
DESCRIPTION:
URL:https://ncbermudaafg.org/event/awsc-meeting-burlington-3/
LOCATION:Best Western – Burlington\, 770 Huffman Mill Rd.\, Burlington\, NC\, 27215\, United States
CATEGORIES:Area,AWSC,District
END:VEVENT
BEGIN:VEVENT
DTSTART;TZID=America/New_York:20250712T080000
DTEND;TZID=America/New_York:20250712T170000
DTSTAMP:20260419T163550
CREATED:20250111T175208Z
LAST-MODIFIED:20250111T175208Z
UID:4853-1752307200-1752339600@ncbermudaafg.org
SUMMARY:AWSC MEETING - BURLINGTON
DESCRIPTION:
URL:https://ncbermudaafg.org/event/awsc-meeting-burlington-2/
LOCATION:Best Western – Burlington\, 770 Huffman Mill Rd.\, Burlington\, NC\, 27215\, United States
CATEGORIES:Area,AWSC,District
END:VEVENT
BEGIN:VEVENT
DTSTART;TZID=America/New_York:20250607T140000
DTEND;TZID=America/New_York:20250607T160000
DTSTAMP:20260419T163550
CREATED:20250521T015038Z
LAST-MODIFIED:20250521T015546Z
UID:5084-1749304800-1749312000@ncbermudaafg.org
SUMMARY:District 3 Al-Anon Picnic - Carbon City Park - Morganton\, NC 28655
DESCRIPTION:Keep It Simple \nSaturday\, June 7͕\, 2025 \n2:00pm -4:00 pm \nAll are invited to the D3 Picnic for\nfood and fellowship \n  \nClick below for the flyer \npicnic 2025
URL:https://ncbermudaafg.org/event/district-3-al-anon-picnic/
CATEGORIES:Area,District
END:VEVENT
BEGIN:VEVENT
DTSTART;TZID=America/New_York:20250517T100000
DTEND;TZID=America/New_York:20250517T160000
DTSTAMP:20260419T163550
CREATED:20250111T175800Z
LAST-MODIFIED:20250510T184547Z
UID:4858-1747476000-1747497600@ncbermudaafg.org
SUMMARY:Area Spring Assembly - May 16 & 17 2025
DESCRIPTION:  \n\nTo register please click here: https://form.jotform.com/250898386862173\nRegistration initially closes Monday May 12th 11:45pm ET. \nRegistration Fees required for Assembly:\n\nAl-Anon member: $20 in-person\, $10 electronic.\nAlateen member: $10 in-person\, $ 5 electronic.\n\n\nLate Registration is Wednesday\, May 14\, 8:00am-6:00pm.\nOnline participants will receive zoom meeting information the week of May 12th along with instruction about how to rename yourself for the meeting.
URL:https://ncbermudaafg.org/event/area-spring-assembly-may-16-17-2025/
END:VEVENT
BEGIN:VEVENT
DTSTART;TZID=America/New_York:20250516T183000
DTEND;TZID=America/New_York:20250516T203000
DTSTAMP:20260419T163550
CREATED:20250511T151138Z
LAST-MODIFIED:20250511T151459Z
UID:5043-1747420200-1747427400@ncbermudaafg.org
SUMMARY:NC/BDA AFG DISTRICT 6 OLE’ FASHIONED HOEDOWN
DESCRIPTION:WHEN \nMay 16th\, 2025\n6:30pm – 8:30pm\nOR\nZoom in at 7:00 for Comic Relief (skits and funny anedotes)\nSquare Dancing to follow. \n  \nWHERE \nSt. Philip Lutheran Church\n7304 Falls Of Neuse Rd\, Raleigh\, NC 27615\nOR\nJoin Zoom Meeting\nhttps://us02web.zoom.us/j/81333140240?\npwd=dSmi2aduRHHPYajuZ3nfUtKeP0bvov.1\nMeeting ID: 813 3314 0240\nPasscode: 121212 \n  \nNC-BDA AFG HOEDOWN (2)
URL:https://ncbermudaafg.org/event/may-16th-2025-district-6-hosting-the-hoedown/
CATEGORIES:Area,District
END:VEVENT
BEGIN:VEVENT
DTSTART;TZID=America/New_York:20250503T110000
DTEND;TZID=America/New_York:20250503T160000
DTSTAMP:20260419T163550
CREATED:20250324T231935Z
LAST-MODIFIED:20250325T130721Z
UID:4931-1746270000-1746288000@ncbermudaafg.org
SUMMARY:The 2025 District 6 Al-Anon Picnic
DESCRIPTION:Let’s have a picnic \nThe 2025 District 6 Al-Anon Picnic.\nSaturday\, May 3\, 2025\nPotluck and Play\n11 AM – 4 PM\nAl-Anon Meeting at 3 PM \nAt Homestead Park\n100 Northern Park Drive\nChapel Hill\, NC 27516 \nUnder the picnic shelter.\nNext to the playground.\nPast the dog park.\nSetup begins at 10 am. \nWater\, cups\, plates\, utensils will be provided. \nCall Charlie at 919-306-5268 to volunteer \nThoughts\, questions\, ideas\, good cheer\, experience\, strength and hope–all\nwelcome. \nLook for more news about the picnic in the coming week
URL:https://ncbermudaafg.org/event/district-6-picnic-may-3-2025/
LOCATION:Homestead Park\, 100 Northern Park Drive\, Chapel Hill\, 27516\, United States
CATEGORIES:District
END:VEVENT
BEGIN:VEVENT
DTSTART;TZID=America/New_York:20250425T080000
DTEND;TZID=America/New_York:20250427T170000
DTSTAMP:20260419T163550
CREATED:20250325T215745Z
LAST-MODIFIED:20250326T185752Z
UID:4946-1745568000-1745773200@ncbermudaafg.org
SUMMARY:EAR - Eastern Alateen Roundup April 25-27\, 2025
DESCRIPTION:EAR – Eastern Alateen Roundup \n  \nJoin other Alateens and AMIAS-certified Alateen sponsors for a weekend full of experience\, strength\, and hope! \n  \nApril 25-27\, 2025 Greensboro area\, NC\n$25 per person or $25 for the whole family! \nIf you have any questions or would like a registration packet\, \nplease contactJenni Slininger \nJennislininger@gmail.com\n973-519-7286 \n  \nFlyer below: \nEAR2025Savethedate
URL:https://ncbermudaafg.org/event/ear-eastern-alateen-roundup/
END:VEVENT
BEGIN:VEVENT
DTSTART;TZID=America/New_York:20250314T150000
DTEND;TZID=America/New_York:20250316T110000
DTSTAMP:20260419T163550
CREATED:20241226T213307Z
LAST-MODIFIED:20241226T213307Z
UID:4833-1741964400-1742122800@ncbermudaafg.org
SUMMARY:2025 Convention
DESCRIPTION:Convention Early Bird Flier 2025 (1)
URL:https://ncbermudaafg.org/event/2025-convention/
LOCATION:Village Inn\, Clemmons\, NC\, United States
CATEGORIES:Area,District
END:VEVENT
BEGIN:VEVENT
DTSTART;TZID=America/New_York:20250308T080000
DTEND;TZID=America/New_York:20250308T170000
DTSTAMP:20260419T163550
CREATED:20250111T174537Z
LAST-MODIFIED:20250521T230453Z
UID:4848-1741420800-1741453200@ncbermudaafg.org
SUMMARY:AWSC Meeting - Burlington
DESCRIPTION:
URL:https://ncbermudaafg.org/event/awsc-meeting-burlington/
LOCATION:Best Western – Burlington\, 770 Huffman Mill Rd.\, Burlington\, NC\, 27215\, United States
CATEGORIES:Area,AWSC,District
END:VEVENT
BEGIN:VEVENT
DTSTART;TZID=America/New_York:20250222T080000
DTEND;TZID=America/New_York:20250222T170000
DTSTAMP:20260419T163550
CREATED:20240919T002945Z
LAST-MODIFIED:20240919T002945Z
UID:4683-1740211200-1740243600@ncbermudaafg.org
SUMMARY:District 5 2025 Winter Roundup
DESCRIPTION:WRU Save The Date Final
URL:https://ncbermudaafg.org/event/district-5-2025-winter-roundup/
END:VEVENT
BEGIN:VEVENT
DTSTART;TZID=America/New_York:20250208T130000
DTEND;TZID=America/New_York:20250208T150000
DTSTAMP:20260419T163550
CREATED:20250111T181236Z
LAST-MODIFIED:20250111T181236Z
UID:4862-1739019600-1739026800@ncbermudaafg.org
SUMMARY:District 9 Meeting - Moorehead City
DESCRIPTION:
URL:https://ncbermudaafg.org/event/district-9-meeting-moorehead-city/
CATEGORIES:District Meetings
END:VEVENT
BEGIN:VEVENT
DTSTART;TZID=America/New_York:20250125T130000
DTEND;TZID=America/New_York:20250125T153000
DTSTAMP:20260419T163550
CREATED:20250111T180119Z
LAST-MODIFIED:20250111T180119Z
UID:4860-1737810000-1737819000@ncbermudaafg.org
SUMMARY:District 6 Meeting - In person and hybrid
DESCRIPTION:
URL:https://ncbermudaafg.org/event/district-6-meeting-in-person-and-hybrid/
END:VEVENT
BEGIN:VEVENT
DTSTART;TZID=America/New_York:20250125T130000
DTEND;TZID=America/New_York:20250125T150000
DTSTAMP:20260419T163550
CREATED:20250116T183804Z
LAST-MODIFIED:20250116T184111Z
UID:4867-1737810000-1737817200@ncbermudaafg.org
SUMMARY:District 7 District Meeting
DESCRIPTION:Due to weather – District 7 postponed its district meeting scheduled for 11 January 2025. A\ntentative date has been identified for 25 January 2025 to be hosted by the Friday Keep It Simple\nAFG\, Brownson Memorial Presbyterian Church in Southern Pines.
URL:https://ncbermudaafg.org/event/district-7-district-meeting/
LOCATION:Brownson Memorial Presbyterian Church\, Southern Pines\, NC\, United States
CATEGORIES:District Meetings
END:VEVENT
BEGIN:VEVENT
DTSTART;TZID=America/New_York:20250118T090000
DTEND;TZID=America/New_York:20250118T160000
DTSTAMP:20260419T163550
CREATED:20231202T200910Z
LAST-MODIFIED:20240924T190925Z
UID:4312-1737190800-1737216000@ncbermudaafg.org
SUMMARY:AWSC Meeting
DESCRIPTION:New Panel Orientation\n\n\n\nMeeting on Friday night will be from 7 – 8:30 pm.  Saturday 9am – 4 pm.\n\nShamrock Evangelical Methodist Church in Burlington .\n3519 Maple Ave.\nBurlington NC 27215\n\n\n\n\n\n\n\n\n\n\nChairperson\, NC/Bermuda AFG Inc.\n\nE-mail:  chairperson@ncbermudaafg.org
URL:https://ncbermudaafg.org/event/awsc-meeting-6/
LOCATION:Best Western – Burlington\, 770 Huffman Mill Rd.\, Burlington\, NC\, 27215\, United States
CATEGORIES:Area,AWSC
END:VEVENT
BEGIN:VEVENT
DTSTART;VALUE=DATE:20241102
DTEND;VALUE=DATE:20241103
DTSTAMP:20260419T163550
CREATED:20240115T185846Z
LAST-MODIFIED:20240924T190001Z
UID:4353-1730505600-1730591999@ncbermudaafg.org
SUMMARY:Area Fall Assembly - November 2\,2024
DESCRIPTION:District 4 is hosting Fall Assembly \nFALL ASSEMBLY & ELECTION ASSEMBLY\nSaturday\, November 2\, Winston-Salem\, NC\nHope Presbyterian Church\,\n2050 Peace Haven Road North\, Winston-Salem 27106 \nOPEN HOUSE & FELLOWSHIP\nFriday Evening\, November 1\, at the same location \n  \n2024 Fall Assembly Location & Hotel Reservation Flyer \n  \n 
URL:https://ncbermudaafg.org/event/area-fall-assembly-november-22024/
END:VEVENT
BEGIN:VEVENT
DTSTART;TZID=America/New_York:20241012T100000
DTEND;TZID=America/New_York:20241012T140000
DTSTAMP:20260419T163550
CREATED:20240919T001456Z
LAST-MODIFIED:20240919T001729Z
UID:4673-1728727200-1728741600@ncbermudaafg.org
SUMMARY:K.I.S.S. Workshop
DESCRIPTION:K.I.S.S Workshop \n  \nKeep It Serene and Simple \nWe invite you to an Al-Anon Day of\nRecovery through the Traditions \nBasket donations are needed for a fundraising raffle.\nhosted by Circle of Hope AFG\nEmmanuel Baptist Church\n1405 Emmanuel Church Road\nConover NC 28613\n$5 suggested donation at the door
URL:https://ncbermudaafg.org/event/k-i-s-s-workshop-2/
LOCATION:Emmanuel Baptist Church\, 1405 Emmanuel Church Road\, Conover\, NC\, 28613\, United States
ORGANIZER;CN="District 3":MAILTO:district3dr@ncbermudaafg.org
END:VEVENT
BEGIN:VEVENT
DTSTART;TZID=America/New_York:20241005T123000
DTEND;TZID=America/New_York:20241005T163000
DTSTAMP:20260419T163550
CREATED:20240906T171556Z
LAST-MODIFIED:20240906T171556Z
UID:4636-1728131400-1728145800@ncbermudaafg.org
SUMMARY:Greenville NC Groups 2024 Gratitude Dinner
DESCRIPTION:Gratitude Dinner 2024 Flyer
URL:https://ncbermudaafg.org/event/greenville-nc-groups-2024-gratitude-dinner/
LOCATION:Covenant Church\, 1396 Firetower Rd\, Rm B102\, Winterville\, NC\, 28590\, United States
CATEGORIES:Area,District,Neighboring Areas
END:VEVENT
BEGIN:VEVENT
DTSTART;TZID=America/New_York:20240906T180000
DTEND;TZID=America/New_York:20240907T200000
DTSTAMP:20260419T163550
CREATED:20231202T200731Z
LAST-MODIFIED:20231212T002739Z
UID:4310-1725645600-1725739200@ncbermudaafg.org
SUMMARY:AWSC Meeting
DESCRIPTION:Meeting on Friday night will be from 6 – 8 pm.  Saturday 8am – 5 pm.\n\nShamrock Evangelical Methodist Church in Burlington .\n3519 Maple Ave.\nBurlington NC 27215\n\n\n\n\n\n\n\n\nChairperson\, NC/Bermuda AFG Inc.\n\nE-mail:  chairperson@ncbermudaafg.org
URL:https://ncbermudaafg.org/event/awsc-meeting-5/
LOCATION:Best Western – Burlington\, 770 Huffman Mill Rd.\, Burlington\, NC\, 27215\, United States
CATEGORIES:Area,AWSC
END:VEVENT
END:VCALENDAR