BEGIN:VCALENDAR
VERSION:2.0
PRODID:-//North Carolina and Bermuda AFG - ECPv6.15.20//NONSGML v1.0//EN
CALSCALE:GREGORIAN
METHOD:PUBLISH
X-WR-CALNAME:North Carolina and Bermuda AFG
X-ORIGINAL-URL:https://ncbermudaafg.org
X-WR-CALDESC:Events for North Carolina and Bermuda AFG
REFRESH-INTERVAL;VALUE=DURATION:PT1H
X-Robots-Tag:noindex
X-PUBLISHED-TTL:PT1H
BEGIN:VTIMEZONE
TZID:America/New_York
BEGIN:DAYLIGHT
TZOFFSETFROM:-0500
TZOFFSETTO:-0400
TZNAME:EDT
DTSTART:20200308T070000
END:DAYLIGHT
BEGIN:STANDARD
TZOFFSETFROM:-0400
TZOFFSETTO:-0500
TZNAME:EST
DTSTART:20201101T060000
END:STANDARD
BEGIN:DAYLIGHT
TZOFFSETFROM:-0500
TZOFFSETTO:-0400
TZNAME:EDT
DTSTART:20210314T070000
END:DAYLIGHT
BEGIN:STANDARD
TZOFFSETFROM:-0400
TZOFFSETTO:-0500
TZNAME:EST
DTSTART:20211107T060000
END:STANDARD
BEGIN:DAYLIGHT
TZOFFSETFROM:-0500
TZOFFSETTO:-0400
TZNAME:EDT
DTSTART:20220313T070000
END:DAYLIGHT
BEGIN:STANDARD
TZOFFSETFROM:-0400
TZOFFSETTO:-0500
TZNAME:EST
DTSTART:20221106T060000
END:STANDARD
BEGIN:DAYLIGHT
TZOFFSETFROM:-0500
TZOFFSETTO:-0400
TZNAME:EDT
DTSTART:20230312T070000
END:DAYLIGHT
BEGIN:STANDARD
TZOFFSETFROM:-0400
TZOFFSETTO:-0500
TZNAME:EST
DTSTART:20231105T060000
END:STANDARD
BEGIN:DAYLIGHT
TZOFFSETFROM:-0500
TZOFFSETTO:-0400
TZNAME:EDT
DTSTART:20240310T070000
END:DAYLIGHT
BEGIN:STANDARD
TZOFFSETFROM:-0400
TZOFFSETTO:-0500
TZNAME:EST
DTSTART:20241103T060000
END:STANDARD
END:VTIMEZONE
BEGIN:VTIMEZONE
TZID:America/Los_Angeles
BEGIN:DAYLIGHT
TZOFFSETFROM:-0800
TZOFFSETTO:-0700
TZNAME:PDT
DTSTART:20190310T100000
END:DAYLIGHT
BEGIN:STANDARD
TZOFFSETFROM:-0700
TZOFFSETTO:-0800
TZNAME:PST
DTSTART:20191103T090000
END:STANDARD
BEGIN:DAYLIGHT
TZOFFSETFROM:-0800
TZOFFSETTO:-0700
TZNAME:PDT
DTSTART:20200308T100000
END:DAYLIGHT
BEGIN:STANDARD
TZOFFSETFROM:-0700
TZOFFSETTO:-0800
TZNAME:PST
DTSTART:20201101T090000
END:STANDARD
BEGIN:DAYLIGHT
TZOFFSETFROM:-0800
TZOFFSETTO:-0700
TZNAME:PDT
DTSTART:20210314T100000
END:DAYLIGHT
BEGIN:STANDARD
TZOFFSETFROM:-0700
TZOFFSETTO:-0800
TZNAME:PST
DTSTART:20211107T090000
END:STANDARD
END:VTIMEZONE
BEGIN:VEVENT
DTSTART;TZID=America/New_York:20231021T140000
DTEND;TZID=America/New_York:20231021T170000
DTSTAMP:20260420T010406
CREATED:20230902T212622Z
LAST-MODIFIED:20230902T212730Z
UID:4075-1697896800-1697907600@ncbermudaafg.org
SUMMARY:Greenville/Winterville Al-Anon Family Group Gratitude Dinner
DESCRIPTION:Gratitude Dinner 2023 Flyer Revised
URL:https://ncbermudaafg.org/event/gratitude-dinner-2023/
LOCATION:Covenant Church\, 1396 Firetower Rd\, Rm B102\, Winterville\, NC\, 28590\, United States
END:VEVENT
BEGIN:VEVENT
DTSTART;TZID=America/New_York:20231021T110000
DTEND;TZID=America/New_York:20231021T160000
DTSTAMP:20260420T010406
CREATED:20231017T194954Z
LAST-MODIFIED:20231017T195842Z
UID:4154-1697886000-1697904000@ncbermudaafg.org
SUMMARY:District 6 Fall Workshop
DESCRIPTION:Dist 6 Fall Workshop – Flyer
URL:https://ncbermudaafg.org/event/district-6-fall-workshop/
LOCATION:Best Western – Burlington\, 770 Huffman Mill Rd.\, Burlington\, NC\, 27215\, United States
END:VEVENT
BEGIN:VEVENT
DTSTART;TZID=America/New_York:20231014T093000
DTEND;TZID=America/New_York:20231014T140000
DTSTAMP:20260420T010406
CREATED:20230904T230454Z
LAST-MODIFIED:20230904T231329Z
UID:4083-1697275800-1697292000@ncbermudaafg.org
SUMMARY:K.I.S.S. Workshop - “KEEP IT SIMPLE AND SERENE” WORKSHOP
DESCRIPTION:K.I.S.S Workshop 2023 \n  \n“KEEP IT SIMPLE AND SERENE”\nWORKSHOP \nDetachment: How to Change the We to Me \n  \n52 Pinewood Rd Granite Falls\, NC
URL:https://ncbermudaafg.org/event/k-i-s-s-workshop/
LOCATION:NC
ORGANIZER;CN="District 3":MAILTO:district3dr@ncbermudaafg.org
END:VEVENT
BEGIN:VEVENT
DTSTART;VALUE=DATE:20230909
DTEND;VALUE=DATE:20230910
DTSTAMP:20260420T010406
CREATED:20230814T151447Z
LAST-MODIFIED:20230814T151634Z
UID:4065-1694217600-1694303999@ncbermudaafg.org
SUMMARY:AWSC Meeting
DESCRIPTION:
URL:https://ncbermudaafg.org/event/awsc-meeting/
LOCATION:NC
CATEGORIES:Area,District
END:VEVENT
BEGIN:VEVENT
DTSTART;VALUE=DATE:20210226
DTEND;VALUE=DATE:20210301
DTSTAMP:20260420T010406
CREATED:20201122T200739Z
LAST-MODIFIED:20201122T200739Z
UID:2762-1614297600-1614556799@ncbermudaafg.org
SUMMARY:NC/Bermuda Convention
DESCRIPTION:To be held virually. Details to come.
URL:https://ncbermudaafg.org/event/nc-bermuda-convention/
LOCATION:Online
END:VEVENT
BEGIN:VEVENT
DTSTART;TZID=America/New_York:20210116T130000
DTEND;TZID=America/New_York:20210116T150000
DTSTAMP:20260420T010406
CREATED:20201122T203102Z
LAST-MODIFIED:20201122T203102Z
UID:2768-1610802000-1610809200@ncbermudaafg.org
SUMMARY:D6-District Meeting
DESCRIPTION:To be held virtually
URL:https://ncbermudaafg.org/event/d6-district-meeting/
LOCATION:Online
CATEGORIES:District
END:VEVENT
BEGIN:VEVENT
DTSTART;TZID=America/Los_Angeles:20201212T120000
DTEND;TZID=America/Los_Angeles:20201212T170000
DTSTAMP:20260420T010406
CREATED:20201122T201340Z
LAST-MODIFIED:20201122T202525Z
UID:2764-1607774400-1607792400@ncbermudaafg.org
SUMMARY:WSO Virtual Town Hall #2
DESCRIPTION:Hosted by Northern California WSA (NCWSA). Members from all areas welcome. \nSome of the topics will include: \n\nWSO Finances\nElectronic/Hybrid Meetings & Mobile App\nRequirements for serving on the Board\n\n\nand will be followed by the WSO Staff ad Volunteers’ answers to members’ questions on these topics. \n 
URL:https://ncbermudaafg.org/event/wso-virtual-town-hall-2/
LOCATION:Online
CATEGORIES:WSO
END:VEVENT
END:VCALENDAR