BEGIN:VCALENDAR
VERSION:2.0
PRODID:-//North Carolina and Bermuda AFG - ECPv6.15.20//NONSGML v1.0//EN
CALSCALE:GREGORIAN
METHOD:PUBLISH
X-ORIGINAL-URL:https://ncbermudaafg.org
X-WR-CALDESC:Events for North Carolina and Bermuda AFG
REFRESH-INTERVAL;VALUE=DURATION:PT1H
X-Robots-Tag:noindex
X-PUBLISHED-TTL:PT1H
BEGIN:VTIMEZONE
TZID:America/New_York
BEGIN:DAYLIGHT
TZOFFSETFROM:-0500
TZOFFSETTO:-0400
TZNAME:EDT
DTSTART:20230312T070000
END:DAYLIGHT
BEGIN:STANDARD
TZOFFSETFROM:-0400
TZOFFSETTO:-0500
TZNAME:EST
DTSTART:20231105T060000
END:STANDARD
BEGIN:DAYLIGHT
TZOFFSETFROM:-0500
TZOFFSETTO:-0400
TZNAME:EDT
DTSTART:20240310T070000
END:DAYLIGHT
BEGIN:STANDARD
TZOFFSETFROM:-0400
TZOFFSETTO:-0500
TZNAME:EST
DTSTART:20241103T060000
END:STANDARD
BEGIN:DAYLIGHT
TZOFFSETFROM:-0500
TZOFFSETTO:-0400
TZNAME:EDT
DTSTART:20250309T070000
END:DAYLIGHT
BEGIN:STANDARD
TZOFFSETFROM:-0400
TZOFFSETTO:-0500
TZNAME:EST
DTSTART:20251102T060000
END:STANDARD
END:VTIMEZONE
BEGIN:VEVENT
DTSTART;TZID=America/New_York:20240101T090000
DTEND;TZID=America/New_York:20240101T150000
DTSTAMP:20260421T230209
CREATED:20231219T012635Z
LAST-MODIFIED:20231219T012912Z
UID:4348-1704099600-1704121200@ncbermudaafg.org
SUMMARY:District 5 - 2023 Alanon-Athon Zoom Meetings
DESCRIPTION:2023 Zoom Meetings Alanonathon \n  \nNew Year’s Day at 9:00 AM\, 12:00 N &\n3:00 PM.
URL:https://ncbermudaafg.org/event/district-5-2023-alanon-athon-zoom-meetings/
LOCATION:Online
CATEGORIES:Area,District
ATTACH;FMTTYPE=image/jpeg:https://ncbermudaafg.org/wp-content/uploads/2022/10/cropped-Al-Anon-Image.jpg
END:VEVENT
BEGIN:VEVENT
DTSTART;TZID=America/New_York:20240112T180000
DTEND;TZID=America/New_York:20240113T200000
DTSTAMP:20260421T230209
CREATED:20231202T200244Z
LAST-MODIFIED:20231212T003034Z
UID:4304-1705082400-1705176000@ncbermudaafg.org
SUMMARY:AWSC Meeting
DESCRIPTION:Meeting on Friday night will be from 6 – 8 pm.  Saturday 8am – 5 pm.\n\n\nShamrock Evangelical Methodist Church in Burlington .\n3519 Maple Ave.\nBurlington NC 27215\n\n\n\n\n\n\n\n\n\n\nChairperson\, NC/Bermuda AFG Inc.\n\nE-mail:  chairperson@ncbermudaafg.org
URL:https://ncbermudaafg.org/event/awsc-meeting-2/
LOCATION:Best Western – Burlington\, 770 Huffman Mill Rd.\, Burlington\, NC\, 27215\, United States
END:VEVENT
BEGIN:VEVENT
DTSTART;TZID=America/New_York:20240127T120000
DTEND;TZID=America/New_York:20240127T160000
DTSTAMP:20260421T230209
CREATED:20240126T140215Z
LAST-MODIFIED:20240126T140215Z
UID:4407-1706356800-1706371200@ncbermudaafg.org
SUMMARY:Al-Anon Share-A-Day
DESCRIPTION:January+b&W+flierAl
URL:https://ncbermudaafg.org/event/al-anon-share-a-day/
LOCATION:Online
END:VEVENT
END:VCALENDAR