BEGIN:VCALENDAR
VERSION:2.0
PRODID:-//North Carolina and Bermuda AFG - ECPv6.15.20//NONSGML v1.0//EN
CALSCALE:GREGORIAN
METHOD:PUBLISH
X-WR-CALNAME:North Carolina and Bermuda AFG
X-ORIGINAL-URL:https://ncbermudaafg.org
X-WR-CALDESC:Events for North Carolina and Bermuda AFG
REFRESH-INTERVAL;VALUE=DURATION:PT1H
X-Robots-Tag:noindex
X-PUBLISHED-TTL:PT1H
BEGIN:VTIMEZONE
TZID:America/New_York
BEGIN:DAYLIGHT
TZOFFSETFROM:-0500
TZOFFSETTO:-0400
TZNAME:EDT
DTSTART:20230312T070000
END:DAYLIGHT
BEGIN:STANDARD
TZOFFSETFROM:-0400
TZOFFSETTO:-0500
TZNAME:EST
DTSTART:20231105T060000
END:STANDARD
BEGIN:DAYLIGHT
TZOFFSETFROM:-0500
TZOFFSETTO:-0400
TZNAME:EDT
DTSTART:20240310T070000
END:DAYLIGHT
BEGIN:STANDARD
TZOFFSETFROM:-0400
TZOFFSETTO:-0500
TZNAME:EST
DTSTART:20241103T060000
END:STANDARD
BEGIN:DAYLIGHT
TZOFFSETFROM:-0500
TZOFFSETTO:-0400
TZNAME:EDT
DTSTART:20250309T070000
END:DAYLIGHT
BEGIN:STANDARD
TZOFFSETFROM:-0400
TZOFFSETTO:-0500
TZNAME:EST
DTSTART:20251102T060000
END:STANDARD
END:VTIMEZONE
BEGIN:VEVENT
DTSTART;TZID=America/New_York:20240204T140000
DTEND;TZID=America/New_York:20240204T153000
DTSTAMP:20260421T210909
CREATED:20240118T184332Z
LAST-MODIFIED:20240121T154526Z
UID:4371-1707055200-1707060600@ncbermudaafg.org
SUMMARY:Electronic Groups Task Force Town Hall - 	Sun Feb 4\, 2024 2pm – 3:30pm (EST)
DESCRIPTION:Electronic Groups Task Force Town Hall Flyer
URL:https://ncbermudaafg.org/event/electronic-groups-task-force-town-hall-sun-feb-4-2024-2pm-330pm-est/
END:VEVENT
BEGIN:VEVENT
DTSTART;TZID=America/New_York:20240208T193000
DTEND;TZID=America/New_York:20240208T210000
DTSTAMP:20260421T210909
CREATED:20240118T213013Z
LAST-MODIFIED:20240121T154614Z
UID:4373-1707420600-1707426000@ncbermudaafg.org
SUMMARY:Electronic Groups Task Force Town Hall - Thu Feb 8\, 2024 7:30pm - 9pm (EST)
DESCRIPTION:Electronic Groups Task Force Town Hall Flyer
URL:https://ncbermudaafg.org/event/electronic-groups-task-force-town-hall-thu-feb-8-2024-730pm-9pm-est/
END:VEVENT
END:VCALENDAR